BEGIN:VCALENDAR
VERSION:2.0
PRODID:-//Ärztlicher Kreisverband Ansbach - ECPv6.15.20//NONSGML v1.0//EN
CALSCALE:GREGORIAN
METHOD:PUBLISH
X-WR-CALNAME:Ärztlicher Kreisverband Ansbach
X-ORIGINAL-URL:https://www.aekv-ansbach.de
X-WR-CALDESC:Veranstaltungen für Ärztlicher Kreisverband Ansbach
REFRESH-INTERVAL;VALUE=DURATION:PT1H
X-Robots-Tag:noindex
X-PUBLISHED-TTL:PT1H
BEGIN:VTIMEZONE
TZID:Europe/Berlin
BEGIN:DAYLIGHT
TZOFFSETFROM:+0100
TZOFFSETTO:+0200
TZNAME:CEST
DTSTART:20250330T010000
END:DAYLIGHT
BEGIN:STANDARD
TZOFFSETFROM:+0200
TZOFFSETTO:+0100
TZNAME:CET
DTSTART:20251026T010000
END:STANDARD
BEGIN:DAYLIGHT
TZOFFSETFROM:+0100
TZOFFSETTO:+0200
TZNAME:CEST
DTSTART:20260329T010000
END:DAYLIGHT
BEGIN:STANDARD
TZOFFSETFROM:+0200
TZOFFSETTO:+0100
TZNAME:CET
DTSTART:20261025T010000
END:STANDARD
BEGIN:DAYLIGHT
TZOFFSETFROM:+0100
TZOFFSETTO:+0200
TZNAME:CEST
DTSTART:20270328T010000
END:DAYLIGHT
BEGIN:STANDARD
TZOFFSETFROM:+0200
TZOFFSETTO:+0100
TZNAME:CET
DTSTART:20271031T010000
END:STANDARD
END:VTIMEZONE
BEGIN:VEVENT
DTSTART;TZID=Europe/Berlin:20260422T190000
DTEND;TZID=Europe/Berlin:20260422T213000
DTSTAMP:20260422T144314
CREATED:20250528T152718Z
LAST-MODIFIED:20260318T154304Z
UID:386-1776884400-1776893400@www.aekv-ansbach.de
SUMMARY:Drei Themen in einer Fortbildung
DESCRIPTION:Termin: \nMittwoch 22. April 2026\nVortragsbeginn: ca. 19.00 Uhr \n1.Thema:  \nNeugründung des Weiterbildungsverbundes\nAllgemeinmedizin/ Praxen Kooperation\n1. Referentin:\nFrau Sandra Pirchner\,\nKaufmännische Direktorin Anregiomed Klinikum Ansbach \n2. Thema: \nEngagement in der ärztlichen Nachwuchsgewinnung\n2. Referent:\nDr. Simon Sitter\,\nNiedergelassener Hausarzt in Feuchtwangen \n3. Thema: \nArzt in den BRK-Bereitschaften\n3. Referent:\nDr. Frank Friedrich\,\nLandesbereitschaftsarzt BRK \nVeranstaltungsort: \nBurg Colmberg\nAn der Burgenstr. 1\, 91598 Colmberg \nFür die Planung bitten wir um Rückmeldung bis zum 29. Juni 2025. \nEinladung als PDF-Download
URL:https://www.aekv-ansbach.de/event/drei-themen-in-einer-fortbildung/
LOCATION:Burg Colmberg\, An der Burgenstr.\, Colmberg\, 91598\, Deutschland
ORGANIZER;CN="%C3%84rztlicher Kreisverband Ansbach und Umgebung":MAILTO:aekv-ansbach@t-online.de
END:VEVENT
END:VCALENDAR